
BEGIN:VCALENDAR
VERSION:2.0
PRODID:-//Grays Harbor College - ECPv6.15.20//NONSGML v1.0//EN
CALSCALE:GREGORIAN
METHOD:PUBLISH
X-WR-CALNAME:Grays Harbor College
X-ORIGINAL-URL:https://www.ghc.edu
X-WR-CALDESC:Events for Grays Harbor College
REFRESH-INTERVAL;VALUE=DURATION:PT1H
X-Robots-Tag:noindex
X-PUBLISHED-TTL:PT1H
BEGIN:VTIMEZONE
TZID:America/Los_Angeles
BEGIN:DAYLIGHT
TZOFFSETFROM:-0800
TZOFFSETTO:-0700
TZNAME:PDT
DTSTART:20240310T100000
END:DAYLIGHT
BEGIN:STANDARD
TZOFFSETFROM:-0700
TZOFFSETTO:-0800
TZNAME:PST
DTSTART:20241103T090000
END:STANDARD
BEGIN:DAYLIGHT
TZOFFSETFROM:-0800
TZOFFSETTO:-0700
TZNAME:PDT
DTSTART:20250309T100000
END:DAYLIGHT
BEGIN:STANDARD
TZOFFSETFROM:-0700
TZOFFSETTO:-0800
TZNAME:PST
DTSTART:20251102T090000
END:STANDARD
BEGIN:DAYLIGHT
TZOFFSETFROM:-0800
TZOFFSETTO:-0700
TZNAME:PDT
DTSTART:20260308T100000
END:DAYLIGHT
BEGIN:STANDARD
TZOFFSETFROM:-0700
TZOFFSETTO:-0800
TZNAME:PST
DTSTART:20261101T090000
END:STANDARD
END:VTIMEZONE
BEGIN:VEVENT
DTSTART;TZID=America/Los_Angeles:20250428T100000
DTEND;TZID=America/Los_Angeles:20250428T130000
DTSTAMP:20260423T174015
CREATED:20250421T164409Z
LAST-MODIFIED:20250428T162702Z
UID:30842-1745834400-1745845200@www.ghc.edu
SUMMARY:Android Phone Tips and Tricks - Ilwaco
DESCRIPTION:Stay connected  in today’s digital world. Lynn Westfall\, instructor\, blends technical skills with an approachable  teaching style.\n\n\nGet comfortable using your Android phone with hands-on guidance in settings\, apps\, and security features. Learn how to manage storage\, optimize battery life\, and use Google services effectively.
URL:https://www.ghc.edu/calendar/android-phone-tips-and-tricks-ilwaco
CATEGORIES:Community Education,Eventbrite
END:VEVENT
END:VCALENDAR