
BEGIN:VCALENDAR
VERSION:2.0
PRODID:-//Grays Harbor College - ECPv6.15.20//NONSGML v1.0//EN
CALSCALE:GREGORIAN
METHOD:PUBLISH
X-WR-CALNAME:Grays Harbor College
X-ORIGINAL-URL:https://www.ghc.edu
X-WR-CALDESC:Events for Grays Harbor College
REFRESH-INTERVAL;VALUE=DURATION:PT1H
X-Robots-Tag:noindex
X-PUBLISHED-TTL:PT1H
BEGIN:VTIMEZONE
TZID:America/Los_Angeles
BEGIN:DAYLIGHT
TZOFFSETFROM:-0800
TZOFFSETTO:-0700
TZNAME:PDT
DTSTART:20240310T100000
END:DAYLIGHT
BEGIN:STANDARD
TZOFFSETFROM:-0700
TZOFFSETTO:-0800
TZNAME:PST
DTSTART:20241103T090000
END:STANDARD
BEGIN:DAYLIGHT
TZOFFSETFROM:-0800
TZOFFSETTO:-0700
TZNAME:PDT
DTSTART:20250309T100000
END:DAYLIGHT
BEGIN:STANDARD
TZOFFSETFROM:-0700
TZOFFSETTO:-0800
TZNAME:PST
DTSTART:20251102T090000
END:STANDARD
BEGIN:DAYLIGHT
TZOFFSETFROM:-0800
TZOFFSETTO:-0700
TZNAME:PDT
DTSTART:20260308T100000
END:DAYLIGHT
BEGIN:STANDARD
TZOFFSETFROM:-0700
TZOFFSETTO:-0800
TZNAME:PST
DTSTART:20261101T090000
END:STANDARD
END:VTIMEZONE
BEGIN:VEVENT
DTSTART;TZID=America/Los_Angeles:20250513T113000
DTEND;TZID=America/Los_Angeles:20250513T130000
DTSTAMP:20260423T180112
CREATED:20251001T221338Z
LAST-MODIFIED:20251001T221338Z
UID:41567-1747135800-1747141200@www.ghc.edu
SUMMARY:Lunch & Learn: Suicide Prevention Workshop
DESCRIPTION:In honor of May being Mental Health Awareness Month\, all GHC students and staff are invited to participate in a Suicide Prevention Workshop\, presented by Donald Seese – Suicide Prevention Program Specialist from the WA State Department of Veteran Affairs. Everyone can learn to recognize the signs that someone may be considering suicide\, establish a dialogue\, and guide the person to seek professional help. Please bring your lunch and join us for this important workshop. Certificates are available upon request. \nHosted by GHC Hope Squad and TRIO Student Support Services.  \nAny questions can be directed to Ginelle Hanaway at ginelle.hanaway@ghc.edu.
URL:https://www.ghc.edu/calendar/calendar-lunch-learn-suicide-prevention-workshop
END:VEVENT
END:VCALENDAR