
BEGIN:VCALENDAR
VERSION:2.0
PRODID:-//Grays Harbor College - ECPv6.15.20//NONSGML v1.0//EN
CALSCALE:GREGORIAN
METHOD:PUBLISH
X-WR-CALNAME:Grays Harbor College
X-ORIGINAL-URL:https://www.ghc.edu
X-WR-CALDESC:Events for Grays Harbor College
REFRESH-INTERVAL;VALUE=DURATION:PT1H
X-Robots-Tag:noindex
X-PUBLISHED-TTL:PT1H
BEGIN:VTIMEZONE
TZID:America/Los_Angeles
BEGIN:DAYLIGHT
TZOFFSETFROM:-0800
TZOFFSETTO:-0700
TZNAME:PDT
DTSTART:20240310T100000
END:DAYLIGHT
BEGIN:STANDARD
TZOFFSETFROM:-0700
TZOFFSETTO:-0800
TZNAME:PST
DTSTART:20241103T090000
END:STANDARD
BEGIN:DAYLIGHT
TZOFFSETFROM:-0800
TZOFFSETTO:-0700
TZNAME:PDT
DTSTART:20250309T100000
END:DAYLIGHT
BEGIN:STANDARD
TZOFFSETFROM:-0700
TZOFFSETTO:-0800
TZNAME:PST
DTSTART:20251102T090000
END:STANDARD
BEGIN:DAYLIGHT
TZOFFSETFROM:-0800
TZOFFSETTO:-0700
TZNAME:PDT
DTSTART:20260308T100000
END:DAYLIGHT
BEGIN:STANDARD
TZOFFSETFROM:-0700
TZOFFSETTO:-0800
TZNAME:PST
DTSTART:20261101T090000
END:STANDARD
END:VTIMEZONE
BEGIN:VEVENT
DTSTART;VALUE=DATE:20250515
DTEND;VALUE=DATE:20250516
DTSTAMP:20260425T041527
CREATED:20250306T224446Z
LAST-MODIFIED:20251001T221338Z
UID:24168-1747267200-1747353599@www.ghc.edu
SUMMARY:Shared Registration (Washington Online) Classes - Summer/Fall 2025
DESCRIPTION:Please note Shared classes often have different start and end dates than classes offered at GHC. Please pay attention to those dates.
URL:https://www.ghc.edu/calendar/calendar-shared-registration-washington-online-classes-summerfall-2025
CATEGORIES:Academic Calendar
END:VEVENT
END:VCALENDAR