
BEGIN:VCALENDAR
VERSION:2.0
PRODID:-//Grays Harbor College - ECPv6.15.20//NONSGML v1.0//EN
CALSCALE:GREGORIAN
METHOD:PUBLISH
X-WR-CALNAME:Grays Harbor College
X-ORIGINAL-URL:https://www.ghc.edu
X-WR-CALDESC:Events for Grays Harbor College
REFRESH-INTERVAL;VALUE=DURATION:PT1H
X-Robots-Tag:noindex
X-PUBLISHED-TTL:PT1H
BEGIN:VTIMEZONE
TZID:America/Los_Angeles
BEGIN:DAYLIGHT
TZOFFSETFROM:-0800
TZOFFSETTO:-0700
TZNAME:PDT
DTSTART:20240310T100000
END:DAYLIGHT
BEGIN:STANDARD
TZOFFSETFROM:-0700
TZOFFSETTO:-0800
TZNAME:PST
DTSTART:20241103T090000
END:STANDARD
BEGIN:DAYLIGHT
TZOFFSETFROM:-0800
TZOFFSETTO:-0700
TZNAME:PDT
DTSTART:20250309T100000
END:DAYLIGHT
BEGIN:STANDARD
TZOFFSETFROM:-0700
TZOFFSETTO:-0800
TZNAME:PST
DTSTART:20251102T090000
END:STANDARD
BEGIN:DAYLIGHT
TZOFFSETFROM:-0800
TZOFFSETTO:-0700
TZNAME:PDT
DTSTART:20260308T100000
END:DAYLIGHT
BEGIN:STANDARD
TZOFFSETFROM:-0700
TZOFFSETTO:-0800
TZNAME:PST
DTSTART:20261101T090000
END:STANDARD
END:VTIMEZONE
BEGIN:VEVENT
DTSTART;TZID=America/Los_Angeles:20250428T170000
DTEND;TZID=America/Los_Angeles:20250429T170000
DTSTAMP:20260423T180322
CREATED:20251001T221405Z
LAST-MODIFIED:20251001T221405Z
UID:41574-1745859600-1745946000@www.ghc.edu
SUMMARY:Spring 2025 Student Success Conference
DESCRIPTION:Free to all Students\, with sessions focused on those Graduating\, going into Work\, or Transferring \nNot doing any of those? Feel free to stop by anyway! For more information stop by the tutoring center\, call 360-538-4010\, or email nancy.estergard@ghc.edu
URL:https://www.ghc.edu/calendar/calendar-spring-2025-student-success-conference
END:VEVENT
END:VCALENDAR