
BEGIN:VCALENDAR
VERSION:2.0
PRODID:-//Grays Harbor College - ECPv6.15.20//NONSGML v1.0//EN
CALSCALE:GREGORIAN
METHOD:PUBLISH
X-WR-CALNAME:Grays Harbor College
X-ORIGINAL-URL:https://www.ghc.edu
X-WR-CALDESC:Events for Grays Harbor College
REFRESH-INTERVAL;VALUE=DURATION:PT1H
X-Robots-Tag:noindex
X-PUBLISHED-TTL:PT1H
BEGIN:VTIMEZONE
TZID:America/Los_Angeles
BEGIN:DAYLIGHT
TZOFFSETFROM:-0800
TZOFFSETTO:-0700
TZNAME:PDT
DTSTART:20240310T100000
END:DAYLIGHT
BEGIN:STANDARD
TZOFFSETFROM:-0700
TZOFFSETTO:-0800
TZNAME:PST
DTSTART:20241103T090000
END:STANDARD
BEGIN:DAYLIGHT
TZOFFSETFROM:-0800
TZOFFSETTO:-0700
TZNAME:PDT
DTSTART:20250309T100000
END:DAYLIGHT
BEGIN:STANDARD
TZOFFSETFROM:-0700
TZOFFSETTO:-0800
TZNAME:PST
DTSTART:20251102T090000
END:STANDARD
BEGIN:DAYLIGHT
TZOFFSETFROM:-0800
TZOFFSETTO:-0700
TZNAME:PDT
DTSTART:20260308T100000
END:DAYLIGHT
BEGIN:STANDARD
TZOFFSETFROM:-0700
TZOFFSETTO:-0800
TZNAME:PST
DTSTART:20261101T090000
END:STANDARD
END:VTIMEZONE
BEGIN:VEVENT
DTSTART;TZID=America/Los_Angeles:20250430T160000
DTEND;TZID=America/Los_Angeles:20250430T190000
DTSTAMP:20260423T175851
CREATED:20250421T164414Z
LAST-MODIFIED:20250430T230032Z
UID:30846-1746028800-1746039600@www.ghc.edu
SUMMARY:Web and Social Media Basics for Businesses
DESCRIPTION:Do you need a website\, a Facebook page\, or both? This course walks you through the basics of choosing the right affordable digital tools .\n\n\nLynn Westfall\, known as The Modem Lisa\, is a seasoned technology educator with over two decades of experience in IT and digital solutions. Her expertise spans software development\, asset management\, and open-source policy\, with a strong focus on making technology more accessible and user-friendly. Beyond her technical work\, Lynn is a dedicated mentor\, helping individuals and businesses navigate the ever-evolving digital landscape. She is also a creative force\, writing articles and producing music under the moniker Premium Bananas. In her classes\, Lynn blends technical know-how with an engaging and approachable teaching style\, ensuring participants gain confidence in their digital skills.
URL:https://www.ghc.edu/calendar/web-and-social-media-basics-for-businesses
CATEGORIES:Community Education,Eventbrite
END:VEVENT
END:VCALENDAR